BEGIN:VCALENDAR
VERSION:2.0
PRODID:-//Tukios.com/
BEGIN:VEVENT
UID:9181ae4b-9e86-4987-afb9-9e0f6015c3cd@www.danielkeenanfuneralhome.com
DTSTAMP:20260426T005654Z
DTSTART:20260429T143000Z
DTEND:20260429T153000Z
SUMMARY:Funeral Mass
DESCRIPTION:
URL:https://www.danielkeenanfuneralhome.com/obituaries/margaret-rapello
LOCATION:Blessed Sacrament Church 607 Central Avenue  Albany NY 12206
GEO:42.6736366;-73.7818452
END:VEVENT
END:VCALENDAR